BEGIN:VCALENDAR
METHOD:PUBLISH
PRODID:-//doubleknot.com//CalenderEvent MIMEDIR//EN
VERSION:2.0
BEGIN:VEVENT
UID:3143851-20270206T140000Z-20270206T170000Z@doubleknot.com
CREATED:20260420T114041Z
LAST-MODIFIED:20260420T114041Z
DTSTAMP:20260420T161611Z
DTSTART:20270206T140000Z
DTEND:20270206T170000Z
LOCATION:Cafeteria, US
CATEGORIES:Post to Faculty Calendar
DESCRIPTION:Meal packing service project hosted by CKS Serves \n 
SUMMARY:Rise Against Hunger
PRIORITY:5
BEGIN:VALARM
TRIGGER:PT15M
ACTION:DISPLAY
DESCRIPTION:Reminder
PRIORITY:5
END:VALARM
END:VEVENT
END:VCALENDAR
