BEGIN:VCALENDAR
METHOD:PUBLISH
PRODID:-//doubleknot.com//CalenderEvent MIMEDIR//EN
VERSION:2.0
BEGIN:VEVENT
UID:3143873-20260917T230000Z-20260918T010000Z@doubleknot.com
CREATED:20260420T180418Z
LAST-MODIFIED:20260420T180418Z
DTSTAMP:20260420T220932Z
DTSTART:20260917T230000Z
DTEND:20260918T010000Z
LOCATION:HC MP Room, US
CATEGORIES:Post to Faculty Calendar
SUMMARY:PVA Mom's Mahjong Night
PRIORITY:5
BEGIN:VALARM
TRIGGER:PT15M
ACTION:DISPLAY
DESCRIPTION:Reminder
PRIORITY:5
END:VALARM
END:VEVENT
BEGIN:VEVENT
UID:3143873-20270422T230000Z-20270423T010000Z@doubleknot.com
CREATED:20260420T180418Z
LAST-MODIFIED:20260420T180418Z
DTSTAMP:20260420T220932Z
DTSTART:20270422T230000Z
DTEND:20270423T010000Z
LOCATION:HC MP Room, US
CATEGORIES:Post to Faculty Calendar
SUMMARY:PVA Mom's Mahjong Night
PRIORITY:5
BEGIN:VALARM
TRIGGER:PT15M
ACTION:DISPLAY
DESCRIPTION:Reminder
PRIORITY:5
END:VALARM
END:VEVENT
END:VCALENDAR
