BEGIN:VCALENDAR
METHOD:PUBLISH
PRODID:-//doubleknot.com//CalenderEvent MIMEDIR//EN
VERSION:2.0
BEGIN:VEVENT
UID:3144236-20260514T150000Z-20260514T183000Z@doubleknot.com
CREATED:20260424T170536Z
LAST-MODIFIED:20260424T184150Z
DTSTAMP:20260424T194456Z
DTSTART:20260514T150000Z
DTEND:20260514T183000Z
LOCATION:US
CATEGORIES:Post to Faculty Calendar
DESCRIPTION:Parents and students are invited to the blacktop during lunch and recess to claim their lost and found items.  \n 
SUMMARY:Lost & Found on Display
PRIORITY:5
BEGIN:VALARM
TRIGGER:PT15M
ACTION:DISPLAY
DESCRIPTION:Reminder
PRIORITY:5
END:VALARM
END:VEVENT
END:VCALENDAR
